BEGIN:VCALENDAR
VERSION:2.0
PRODID:-//High Performance Software Foundation (HPSF) - ECPv6.15.20//NONSGML v1.0//EN
CALSCALE:GREGORIAN
METHOD:PUBLISH
X-WR-CALNAME:High Performance Software Foundation (HPSF)
X-ORIGINAL-URL:https://hpsf.io
X-WR-CALDESC:Events for High Performance Software Foundation (HPSF)
REFRESH-INTERVAL;VALUE=DURATION:PT1H
X-Robots-Tag:noindex
X-PUBLISHED-TTL:PT1H
BEGIN:VTIMEZONE
TZID:UTC
BEGIN:STANDARD
TZOFFSETFROM:+0000
TZOFFSETTO:+0000
TZNAME:UTC
DTSTART:20230101T000000
END:STANDARD
END:VTIMEZONE
BEGIN:VEVENT
DTSTART;VALUE=DATE:20260316
DTEND;VALUE=DATE:20260321
DTSTAMP:20260420T042535
CREATED:20251001T182536Z
LAST-MODIFIED:20251001T182536Z
UID:10000010-1773619200-1774051199@hpsf.io
SUMMARY:HPSF Conference 2026
DESCRIPTION:➡️ HPSF Conference \n📅 March 16-20\, 2026 \n📍 Chicago\, IL \nThe second annual HPSF Conference will again bring together the brightest minds in high performance software. HPSFCon is dedicated to advancing community-driven solutions for performance\, portability\, and productivity in a rapidly evolving High Performance Computing (HPC) landscape. 
URL:https://hpsf.io/event/hpsf-conference-2026/
LOCATION:Chicago\, IL\, Chicago\, United States
ATTACH;FMTTYPE=image/png:https://hpsf.io/wp-content/uploads/sites/18/2025/10/HPSF-Conference-2026.png
END:VEVENT
BEGIN:VEVENT
DTSTART;TZID=UTC:20260225T080000
DTEND;TZID=UTC:20260227T170000
DTSTAMP:20260420T042535
CREATED:20251125T172244Z
LAST-MODIFIED:20251211T160542Z
UID:10000015-1772006400-1772211600@hpsf.io
SUMMARY:HPSF Community Summit 2026
DESCRIPTION:Join us for the HPSF Community Summit 2026 in Braunschweig\, Germany! \nCall for proposals is now open. \n\nDates: February 25 – 27\, 2026\nLocation: TU Braunschweig\, Germany\nMore details can be found here.
URL:https://hpsf.io/event/hpsf-community-summit-2026/
LOCATION:Technical University of Braunschweig\, Universitätspl. 2\, 38106\, Braunschweig\, Germany
ATTACH;FMTTYPE=image/jpeg:https://hpsf.io/wp-content/uploads/sites/18/2025/11/HPSF-BLOG-POST-1.jpg
END:VEVENT
BEGIN:VEVENT
DTSTART;VALUE=DATE:20260131
DTEND;VALUE=DATE:20260202
DTSTAMP:20260420T042535
CREATED:20251029T151737Z
LAST-MODIFIED:20260126T155613Z
UID:10000013-1769817600-1769990399@hpsf.io
SUMMARY:FOSDEM 2026
DESCRIPTION:FOSDEM is a two-day event organised by volunteers to promote the widespread use of free and open source software. \nHPSF will participate in FOSDEM 2026 by presenting a talk in the HPC\, Big Data\, and Data Science devroom – Update on the High Performance Software Foundation (HPSF)
URL:https://hpsf.io/event/fosdem-2026/
LOCATION:Brussels\, Brussels\, Belgium
END:VEVENT
BEGIN:VEVENT
DTSTART;TZID=UTC:20260126T080000
DTEND;TZID=UTC:20260129T170000
DTSTAMP:20260420T042535
CREATED:20251028T183333Z
LAST-MODIFIED:20260115T163140Z
UID:10000011-1769414400-1769706000@hpsf.io
SUMMARY:SCA / HPCAsia 2026
DESCRIPTION:The SupercomputingAsia (SCA) is a major annual international HPC event in Asia established in 2018. The conference is co-organized by HPC centers from Australia\, Japan\, Singapore\, and Thailand\, and has become a key networking and collaboration platform for the regional and global supercomputing community\, for both the public and private sectors. \nThe International Conference on High Performance Computing in Asia-Pacific Region (HPCAsia) is an international conference series for the Asia Pacific region on HPC technologies\, that promote exchange of ideas\, research results\, and case studies related to all issues of high-performance computing. \nHPSF will participate in SCA / HPCAsia 2026. \nCome visit us at our booth! \nHPSF Talks/Tutorials: \n\nIntro to Kokkos (all day monday)\nManaging HPC Software Complexity with Spack (all day monday)\nHPSF presentation at the Exhibitor Forum – Wed 16:20 – 16:35\nSpack Community BOF – Wed 17:00-18:00\nHPSF BOF – Thurs 11:30-12:30
URL:https://hpsf.io/event/sca-hpcasia-2026/
LOCATION:Osaka\, Japan\, Osaka\, Japan
END:VEVENT
BEGIN:VEVENT
DTSTART;VALUE=DATE:20260112
DTEND;VALUE=DATE:20260117
DTSTAMP:20260420T042535
CREATED:20251118T160554Z
LAST-MODIFIED:20251119T144614Z
UID:10000014-1768176000-1768607999@hpsf.io
SUMMARY:Kokkos Hackathon
DESCRIPTION:Kokkos hackathon\, hosted by CExA\, on January 12-16\, 2026\, at Maison de la Simulation (MdlS) in Saclay / Gif-sur-Yvette\, France. This training is two-fold. It first features a full-day traditional Kokkos course targeted to beginners\, or users who would like to refresh their knowledge of the library. It then proposes a 3-day hackathon\, where teams of participants eager to go further would accelerate and optimize a solver using Kokkos. Users can choose to attend either or both parts of the training. Computers with access to a local GPU cluster will be provided. \nLearn more.
URL:https://hpsf.io/event/kokkos-hackathon/
LOCATION:Maison de la Simulation (MdlS)\, Maison de la Simulation (MdlS)\, Saclay / Gif-sur-Yvette\, France
ATTACH;FMTTYPE=image/png:https://hpsf.io/wp-content/uploads/sites/18/2025/11/CExA-Kokkos-Hackathon.png
END:VEVENT
BEGIN:VEVENT
DTSTART;TZID=UTC:20251117T080000
DTEND;TZID=UTC:20251124T170000
DTSTAMP:20260420T042535
CREATED:20241213T140232Z
LAST-MODIFIED:20250919T212808Z
UID:10000004-1763366400-1764003600@hpsf.io
SUMMARY:SC'25
DESCRIPTION:Visit us at the HPSF Booth in the exhibit hall at SC’25 \nJoin us at the High Performance Software Foundation BOF \n\nThe High Performance Software Foundation (HPSF) is a neutral hub for open source\, high performance software with a growing set of member organizations and projects. It aims to advance portable software for diverse hardware by increasing adoption\, aiding community growth\, and enabling development efforts. It also fosters collaboration through working groups such as continuous integration\, benchmarking. Join the High Performance Software Foundation (HPSF) BOF to connect with foundation members\, learn directly from leadership about its impactful activities\, and explore how you can contribute to and benefit from leading HPC open-source initiatives.\nBOF Details\nTuesday\, 18 November 2025\n\n12:15pm – 1:15pm CST\nLocation 230
URL:https://hpsf.io/event/sc25/
LOCATION:America’s Center Convention Complex\, 701 Convention Plaza\, St. Louis\, MO\, 63101\, United States
END:VEVENT
BEGIN:VEVENT
DTSTART;VALUE=DATE:20250909
DTEND;VALUE=DATE:20250912
DTSTAMP:20260420T042535
CREATED:20250807T155701Z
LAST-MODIFIED:20250821T134306Z
UID:10000009-1757376000-1757635199@hpsf.io
SUMMARY:TACC 25 OpenCHAMI Developer Summit
DESCRIPTION:The OpenCHAMI Developer Summit brings together contributors\, operators\, and researchers building and deploying open orchestration platforms in HPC environments. As the OpenCHAMI framework gains traction across national labs\, universities\, and commercial HPC users\, this summit will: \n\nShowcase best practices for automated cluster management and workload orchestration\nEnable contributors to collaborate on architecture\, governance\, and roadmap priorities\nProvide hands-on learning through tutorials\, governance workshops\, and a community hackathon\n\nAttend In-Person or Virtually\nWhile we encourage in-person attendance to benefit from networking and face-to-face collaboration\, we also welcome virtual participants who want to learn\, observe\, and contribute remotely. \nEvent Details\nDates: September 9–11\, 2025\nLocation: Texas Advanced Computing Center (TACC)\, Austin\, TX\nRemote Participation: Virtual access available for all registered attendees\nRegistration: Register here via Eventbrite »\nFull Agenda: openchami.org/tacc25
URL:https://hpsf.io/event/tacc-25-openchami-developer-summit/
LOCATION:Texas Advanced Computing Center (TACC)\, Austin\, TX
ATTACH;FMTTYPE=image/png:https://hpsf.io/wp-content/uploads/sites/18/2025/08/OpenChami_Dev_Summit_2025.png
END:VEVENT
BEGIN:VEVENT
DTSTART;VALUE=DATE:20250908
DTEND;VALUE=DATE:20250912
DTSTAMP:20260420T042535
CREATED:20250522T164823Z
LAST-MODIFIED:20250811T194348Z
UID:10000008-1757289600-1757635199@hpsf.io
SUMMARY:54th International Conference on Parallel Processing
DESCRIPTION:HPSF will host a tutorial at International Conference on Parallel Processing (ICPP). \nIntroduction to Performance Portable HPC Development with Spack\, Kokkos\, and Trilinos \nThis 4-day tutorial provides a comprehensive introduction to tools and libraries essential for developing HPC applications. Day 1 covers Spack\, a package manager for wrangling the complexities of HPC software libraries across platforms. Days 2-3 delve into Kokkos\, a performance portability abstraction layer that enables writing single-source C++ applications targeting CPU and GPU architectures. The final half-day covers Trilinos\, a collection of numerical solvers for large-scale scientific and engineering problems. Join us to gain practical experience developing HPC software using powerful open-source tools\, which will equip you with the skills to develop and analyze performant applications on modern supercomputing architectures.
URL:https://hpsf.io/event/54th-international-conference-on-parallel-processing/
LOCATION:San Diego\, CA\, San Diego\, CA\, United States
ATTACH;FMTTYPE=image/png:https://hpsf.io/wp-content/uploads/sites/18/2025/07/HPSF-BLOG-POST-1.png
END:VEVENT
BEGIN:VEVENT
DTSTART;VALUE=DATE:20250610
DTEND;VALUE=DATE:20250614
DTSTAMP:20260420T042535
CREATED:20241213T140056Z
LAST-MODIFIED:20250604T140926Z
UID:10000003-1749513600-1749859199@hpsf.io
SUMMARY:ISC High Performance 2025
DESCRIPTION:HPSF will participate in ISC High Performance 2025. Come say hi at booth G52 on the exhibition floor to chat with our community members and catch some demos on our projects. \nPlease also see the following sessions: \n\nHPSF BOF\nSpack Tutorial\nSpack BOF\nOpenCHAMI Tutorial\nSuperCompCloud featuring OpenCHAMI
URL:https://hpsf.io/event/isc-high-performance-2025/
LOCATION:Congress Center Hamburg\, Congresspl. 1\, 20355\, Hamburg\, Germany
END:VEVENT
BEGIN:VEVENT
DTSTART;VALUE=DATE:20250505
DTEND;VALUE=DATE:20250509
DTSTAMP:20260420T042535
CREATED:20241213T135823Z
LAST-MODIFIED:20250402T184826Z
UID:10000002-1746403200-1746748799@hpsf.io
SUMMARY:HPSF Conference
DESCRIPTION:Join us for the inaugural HPSF Conference\, where the brightest minds in high performance software come together. Hosted by the High Performance Software Foundation (HPSF)\, this event is dedicated to advancing community-driven solutions for performance\, portability\, and productivity in a rapidly evolving High Performance Computing (HPC) landscape. \nRegister now! \nWith the growth of AI\, accelerated computing\, and HPC\, this is the moment to drive innovation. Together\, we’ll explore how open source collaboration and a unified foundation for high performance software can unlock new possibilities for high performance computing systems.  \nLearn more about what’s new with HPSF projects and meet with project communities. Join us to connect\, learn\, and lead the charge in transforming how we build and use software.
URL:https://hpsf.io/event/hpsf-conference/
LOCATION:Chicago\, IL\, Chicago\, United States
END:VEVENT
BEGIN:VEVENT
DTSTART;VALUE=DATE:20250201
DTEND;VALUE=DATE:20250203
DTSTAMP:20260420T042535
CREATED:20241218T213948Z
LAST-MODIFIED:20241218T214011Z
UID:10000007-1738368000-1738540799@hpsf.io
SUMMARY:FOSDEM'25
DESCRIPTION:HPSF is sponsoring the HPC\, Big Data & Data Science devroom at FOSDEM’25.\n\nHPSF is giving a talk\nWe will have swag\nPlus we’re sponsoring a dinner\n\nSee you there!
URL:https://hpsf.io/event/fosdem25/
LOCATION:ULB Solbosch Campus\, Brussels\, Belgium\, Europe\, ULB Solbosch Campus\, Brussels\, Belgium
END:VEVENT
BEGIN:VEVENT
DTSTART;TZID=UTC:20241117T080000
DTEND;TZID=UTC:20241124T170000
DTSTAMP:20260420T042535
CREATED:20241213T140426Z
LAST-MODIFIED:20241213T140608Z
UID:10000005-1731830400-1732467600@hpsf.io
SUMMARY:SC'24
DESCRIPTION:High Performance Software Foundation hosted a Birds of a Feather on  Tuesday\, November 19\, 2024\, 5:15 PM. \nRead Blog Post
URL:https://hpsf.io/event/sc24/
LOCATION:Georgia World Congress Center\, 285 Andrew Young International Blvd NW\, Atlanta\, GA\, 30303
END:VEVENT
BEGIN:VEVENT
DTSTART;TZID=UTC:20240512T080000
DTEND;TZID=UTC:20240516T170000
DTSTAMP:20260420T042535
CREATED:20241213T140546Z
LAST-MODIFIED:20241213T140546Z
UID:10000006-1715500800-1715878800@hpsf.io
SUMMARY:ISC High Performance 2024
DESCRIPTION:
URL:https://hpsf.io/event/isc-high-performance-2024/
LOCATION:Congress Center Hamburg\, Congresspl. 1\, 20355\, Hamburg\, Germany
END:VEVENT
END:VCALENDAR